BEGIN:VCALENDAR
VERSION:2.0
PRODID:-//Mercy Spring Ranch - ECPv6.15.20//NONSGML v1.0//EN
CALSCALE:GREGORIAN
METHOD:PUBLISH
X-WR-CALNAME:Mercy Spring Ranch
X-ORIGINAL-URL:https://www.mercyspringranch.org
X-WR-CALDESC:Events for Mercy Spring Ranch
REFRESH-INTERVAL;VALUE=DURATION:PT1H
X-Robots-Tag:noindex
X-PUBLISHED-TTL:PT1H
BEGIN:VTIMEZONE
TZID:America/Los_Angeles
BEGIN:DAYLIGHT
TZOFFSETFROM:-0800
TZOFFSETTO:-0700
TZNAME:PDT
DTSTART:20230312T100000
END:DAYLIGHT
BEGIN:STANDARD
TZOFFSETFROM:-0700
TZOFFSETTO:-0800
TZNAME:PST
DTSTART:20231105T090000
END:STANDARD
BEGIN:DAYLIGHT
TZOFFSETFROM:-0800
TZOFFSETTO:-0700
TZNAME:PDT
DTSTART:20240310T100000
END:DAYLIGHT
BEGIN:STANDARD
TZOFFSETFROM:-0700
TZOFFSETTO:-0800
TZNAME:PST
DTSTART:20241103T090000
END:STANDARD
BEGIN:DAYLIGHT
TZOFFSETFROM:-0800
TZOFFSETTO:-0700
TZNAME:PDT
DTSTART:20250309T100000
END:DAYLIGHT
BEGIN:STANDARD
TZOFFSETFROM:-0700
TZOFFSETTO:-0800
TZNAME:PST
DTSTART:20251102T090000
END:STANDARD
END:VTIMEZONE
BEGIN:VEVENT
DTSTART;TZID=America/Los_Angeles:20240224T100000
DTEND;TZID=America/Los_Angeles:20240224T130000
DTSTAMP:20260423T164919
CREATED:20220202T224018Z
LAST-MODIFIED:20240224T170538Z
UID:871-1708768800-1708779600@www.mercyspringranch.org
SUMMARY:Horse Handler Training
DESCRIPTION:For those 18 and over who would like to volunteer in any capacity that puts you in proximity to our horses\, we require all horse volunteers to go through our horse handler training. Training is offered in our off-season\, scheduled from January through March. Horse handlers learn the basics of haltering\, grooming\, leading\, horse behavior and safety with our equines. Those with current horse experience can often get our guidelines down quickly\, but it’s imperative for safety and the health of our horses that all horse related volunteers go through this training.\n\nDo you have an interest and desire to volunteer with the horses at the ranch? Even if you have minimal experience\, you are welcome to come and learn what it takes to be a horse handler at MSR!\n\nUPDATE: The training is full but contact us if you would like to audit!
URL:https://www.mercyspringranch.org/event/horse-handler-training-2/
LOCATION:Mercy Spring Ranch\, 21819 McBride Rd.\, Escalon\, CA\, 95320\, United States
CATEGORIES:Horse Handler Training
ATTACH;FMTTYPE=image/jpeg:https://www.mercyspringranch.org/wp-content/uploads/2024/01/Horse-Handler-2022.jpg
END:VEVENT
BEGIN:VEVENT
DTSTART;TZID=America/Los_Angeles:20240210T100000
DTEND;TZID=America/Los_Angeles:20240210T130000
DTSTAMP:20260423T164919
CREATED:20220202T223939Z
LAST-MODIFIED:20240224T170559Z
UID:869-1707559200-1707570000@www.mercyspringranch.org
SUMMARY:Horse Handler Training
DESCRIPTION:For those 18 and over who would like to volunteer in any capacity that puts you in proximity to our horses\, we require all horse volunteers to go through our horse handler training. Training is offered in our off-season\, scheduled from January through March. Horse handlers learn the basics of haltering\, grooming\, leading\, horse behavior and safety with our equines. Those with current horse experience can often get our guidelines down quickly\, but it’s imperative for safety and the health of our horses that all horse related volunteers go through this training.\n\nDo you have an interest and desire to volunteer with the horses at the ranch? Even if you have minimal experience\, you are welcome to come and learn what it takes to be a horse handler at MSR!\n\nUPDATE:  The training is full\, but if you’re interested in auditing contact us!
URL:https://www.mercyspringranch.org/event/horse-handler-training/
LOCATION:Mercy Spring Ranch\, 21819 McBride Rd.\, Escalon\, CA\, 95320\, United States
CATEGORIES:Horse Handler Training
ATTACH;FMTTYPE=image/jpeg:https://www.mercyspringranch.org/wp-content/uploads/2024/01/Horse-Handler-2022.jpg
END:VEVENT
END:VCALENDAR