BEGIN:VCALENDAR
VERSION:2.0
PRODID:-//Mercy Spring Ranch - ECPv6.15.20//NONSGML v1.0//EN
CALSCALE:GREGORIAN
METHOD:PUBLISH
X-WR-CALNAME:Mercy Spring Ranch
X-ORIGINAL-URL:https://www.mercyspringranch.org
X-WR-CALDESC:Events for Mercy Spring Ranch
REFRESH-INTERVAL;VALUE=DURATION:PT1H
X-Robots-Tag:noindex
X-PUBLISHED-TTL:PT1H
BEGIN:VTIMEZONE
TZID:America/Los_Angeles
BEGIN:DAYLIGHT
TZOFFSETFROM:-0800
TZOFFSETTO:-0700
TZNAME:PDT
DTSTART:20210314T100000
END:DAYLIGHT
BEGIN:STANDARD
TZOFFSETFROM:-0700
TZOFFSETTO:-0800
TZNAME:PST
DTSTART:20211107T090000
END:STANDARD
BEGIN:DAYLIGHT
TZOFFSETFROM:-0800
TZOFFSETTO:-0700
TZNAME:PDT
DTSTART:20220313T100000
END:DAYLIGHT
BEGIN:STANDARD
TZOFFSETFROM:-0700
TZOFFSETTO:-0800
TZNAME:PST
DTSTART:20221106T090000
END:STANDARD
BEGIN:DAYLIGHT
TZOFFSETFROM:-0800
TZOFFSETTO:-0700
TZNAME:PDT
DTSTART:20230312T100000
END:DAYLIGHT
BEGIN:STANDARD
TZOFFSETFROM:-0700
TZOFFSETTO:-0800
TZNAME:PST
DTSTART:20231105T090000
END:STANDARD
BEGIN:DAYLIGHT
TZOFFSETFROM:-0800
TZOFFSETTO:-0700
TZNAME:PDT
DTSTART:20240310T100000
END:DAYLIGHT
BEGIN:STANDARD
TZOFFSETFROM:-0700
TZOFFSETTO:-0800
TZNAME:PST
DTSTART:20241103T090000
END:STANDARD
BEGIN:DAYLIGHT
TZOFFSETFROM:-0800
TZOFFSETTO:-0700
TZNAME:PDT
DTSTART:20250309T100000
END:DAYLIGHT
BEGIN:STANDARD
TZOFFSETFROM:-0700
TZOFFSETTO:-0800
TZNAME:PST
DTSTART:20251102T090000
END:STANDARD
BEGIN:DAYLIGHT
TZOFFSETFROM:-0800
TZOFFSETTO:-0700
TZNAME:PDT
DTSTART:20260308T100000
END:DAYLIGHT
BEGIN:STANDARD
TZOFFSETFROM:-0700
TZOFFSETTO:-0800
TZNAME:PST
DTSTART:20261101T090000
END:STANDARD
BEGIN:DAYLIGHT
TZOFFSETFROM:-0800
TZOFFSETTO:-0700
TZNAME:PDT
DTSTART:20270314T100000
END:DAYLIGHT
BEGIN:STANDARD
TZOFFSETFROM:-0700
TZOFFSETTO:-0800
TZNAME:PST
DTSTART:20271107T090000
END:STANDARD
END:VTIMEZONE
BEGIN:VEVENT
DTSTART;TZID=America/Los_Angeles:20260502T080000
DTEND;TZID=America/Los_Angeles:20260502T170000
DTSTAMP:20260423T164512
CREATED:20260217T024755Z
LAST-MODIFIED:20260217T024755Z
UID:2504-1777708800-1777741200@www.mercyspringranch.org
SUMMARY:Call in Registration Day for June/July Session Block
DESCRIPTION:Registration for sessions takes place on the first Saturday of the month prior to the month new sessions begin. For instance\, if you are trying to sign up for the April/May block of sessions the registration call-in for that block of sessions will be the first Saturday in March\, beginning at 8am. For the June/July session block\, the first Saturday in May at the same time. For the August/September session block\, the first Saturday in July at the same time. The number to call is (209) 691-6054. Sessions are offered on a first come\, first-served basis. (All calls are time stamped and any calls made before 8am will be moved to the bottom of the list to make it fair.) Once you call in and leave a message\, it takes a few weeks to work our way down the list making call-backs and getting children scheduled.  For more information click here.
URL:https://www.mercyspringranch.org/event/call-in-registration-day-for-june-july-session-block-2026/
LOCATION:Call In
CATEGORIES:Session Call In Day
ATTACH;FMTTYPE=image/jpeg:https://www.mercyspringranch.org/wp-content/uploads/2021/06/untitled-2-1.jpg
END:VEVENT
BEGIN:VEVENT
DTSTART;TZID=America/Los_Angeles:20260411T090000
DTEND;TZID=America/Los_Angeles:20260411T130000
DTSTAMP:20260423T164512
CREATED:20260217T022949Z
LAST-MODIFIED:20260217T022949Z
UID:2486-1775898000-1775912400@www.mercyspringranch.org
SUMMARY:Heirloom Plant Sale
DESCRIPTION:Plant sale 2026 Flier CLICK HERE! \n  \nIn addition to the normal activities we have at our Annual Plant Sales\, we will also have another presentation in our series of Garden Talks.  This presentation will begin at 10 am the day of the event.
URL:https://www.mercyspringranch.org/event/heirloom-plant-sale-april-26/
LOCATION:Mercy Spring Ranch\, 21819 McBride Rd.\, Escalon\, CA\, 95320\, United States
ATTACH;FMTTYPE=image/jpeg:https://www.mercyspringranch.org/wp-content/uploads/2022/02/IMG_1590.jpg
END:VEVENT
BEGIN:VEVENT
DTSTART;TZID=America/Los_Angeles:20260314T090000
DTEND;TZID=America/Los_Angeles:20260314T130000
DTSTAMP:20260423T164512
CREATED:20260217T022812Z
LAST-MODIFIED:20260217T022812Z
UID:2484-1773478800-1773493200@www.mercyspringranch.org
SUMMARY:Heirloom Plant Sale
DESCRIPTION:Plant sale 2026 Flier CLICK HERE! \n  \nIn addition to the normal activities we have at our Annual Plant Sales\, we will also have another presentation in our series of Garden Talks.  This presentation will begin at 10 am the day of the event.
URL:https://www.mercyspringranch.org/event/heirloom-plant-sale-march-26/
LOCATION:Mercy Spring Ranch\, 21819 McBride Rd.\, Escalon\, CA\, 95320\, United States
ATTACH;FMTTYPE=image/jpeg:https://www.mercyspringranch.org/wp-content/uploads/2022/02/IMG_1590.jpg
END:VEVENT
BEGIN:VEVENT
DTSTART;TZID=America/Los_Angeles:20260307T080000
DTEND;TZID=America/Los_Angeles:20260307T170000
DTSTAMP:20260423T164512
CREATED:20260217T024613Z
LAST-MODIFIED:20260217T024613Z
UID:2502-1772870400-1772902800@www.mercyspringranch.org
SUMMARY:Call in Registration Day for April/May Session Block
DESCRIPTION:Registration for sessions takes place on the first Saturday of the month prior to the month new sessions begin. For instance\, if you are trying to sign up for the April/May block of sessions the registration call-in for that block of sessions will be the first Saturday in March\, beginning at 8am. For the June/July session block\, the first Saturday in May at the same time. For the August/September session block\, the first Saturday in July at the same time. The number to call is (209) 691-6054. Sessions are offered on a first come\, first-served basis. (All calls are time stamped and any calls made before 8am will be moved to the bottom of the list to make it fair.) Once you call in and leave a message\, it takes a few weeks to work our way down the list making call-backs and getting children scheduled.  For more information click here.
URL:https://www.mercyspringranch.org/event/call-in-registration-day-for-april-may-session-block-2026/
LOCATION:Call In
CATEGORIES:Session Call In Day
ATTACH;FMTTYPE=image/jpeg:https://www.mercyspringranch.org/wp-content/uploads/2021/06/untitled-2-1.jpg
END:VEVENT
BEGIN:VEVENT
DTSTART;TZID=America/Los_Angeles:20250816T100000
DTEND;TZID=America/Los_Angeles:20250816T140000
DTSTAMP:20260423T164512
CREATED:20250202T014131Z
LAST-MODIFIED:20250202T014131Z
UID:2384-1755338400-1755352800@www.mercyspringranch.org
SUMMARY:Annual Heirloom Tomato Tasting 2025
DESCRIPTION:Tomato tasting flier 2025 \n  \nIn addition to the normal activities we have at our Annual Tomato Tasting event\, we will also have another presentation in our series of Garden Talks.  This presentation will begin at 11 am the day of the event.
URL:https://www.mercyspringranch.org/event/annual-heirloom-tomato-tasting-2025/
LOCATION:Mercy Spring Ranch\, 21819 McBride Rd.\, Escalon\, CA\, 95320\, United States
ATTACH;FMTTYPE=image/jpeg:https://www.mercyspringranch.org/wp-content/uploads/2016/01/IMG_0566.jpg
END:VEVENT
BEGIN:VEVENT
DTSTART;TZID=America/Los_Angeles:20250705T080000
DTEND;TZID=America/Los_Angeles:20250705T170000
DTSTAMP:20260423T164512
CREATED:20250202T014907Z
LAST-MODIFIED:20250202T014907Z
UID:2392-1751702400-1751734800@www.mercyspringranch.org
SUMMARY:Call in Registration Day for August/September Session Block
DESCRIPTION:Registration for sessions takes place on the first Saturday of the month prior to the month new sessions begin. For instance\, if you are trying to sign up for the April/May block of sessions the registration call-in for that block of sessions will be the first Saturday in March\, beginning at 8am. For the June/July session block\, the first Saturday in May at the same time. For the August/September session block\, the first Saturday in July at the same time. The number to call is (209) 691-6054. Sessions are offered on a first come\, first-served basis. (All calls are time stamped and any calls made before 8am will be moved to the bottom of the list to make it fair.) Once you call in and leave a message\, it takes a few weeks to work our way down the list making call-backs and getting children scheduled.  For more information click here.
URL:https://www.mercyspringranch.org/event/call-in-registration-day-for-august-september-session-block-2/
LOCATION:Call In
CATEGORIES:Session Call In Day
ATTACH;FMTTYPE=image/jpeg:https://www.mercyspringranch.org/wp-content/uploads/2021/06/untitled-2-1.jpg
END:VEVENT
BEGIN:VEVENT
DTSTART;TZID=America/Los_Angeles:20250503T080000
DTEND;TZID=America/Los_Angeles:20250503T170000
DTSTAMP:20260423T164512
CREATED:20250202T014816Z
LAST-MODIFIED:20250202T014816Z
UID:2390-1746259200-1746291600@www.mercyspringranch.org
SUMMARY:Call in Registration Day for June/July Session Block
DESCRIPTION:Registration for sessions takes place on the first Saturday of the month prior to the month new sessions begin. For instance\, if you are trying to sign up for the April/May block of sessions the registration call-in for that block of sessions will be the first Saturday in March\, beginning at 8am. For the June/July session block\, the first Saturday in May at the same time. For the August/September session block\, the first Saturday in July at the same time. The number to call is (209) 691-6054. Sessions are offered on a first come\, first-served basis. (All calls are time stamped and any calls made before 8am will be moved to the bottom of the list to make it fair.) Once you call in and leave a message\, it takes a few weeks to work our way down the list making call-backs and getting children scheduled.  For more information click here.
URL:https://www.mercyspringranch.org/event/call-in-registration-day-for-june-july-session-block/
LOCATION:Call In
CATEGORIES:Session Call In Day
ATTACH;FMTTYPE=image/jpeg:https://www.mercyspringranch.org/wp-content/uploads/2021/06/untitled-2-1.jpg
END:VEVENT
BEGIN:VEVENT
DTSTART;TZID=America/Los_Angeles:20250412T090000
DTEND;TZID=America/Los_Angeles:20250412T130000
DTSTAMP:20260423T164512
CREATED:20250202T012930Z
LAST-MODIFIED:20250202T012930Z
UID:2378-1744448400-1744462800@www.mercyspringranch.org
SUMMARY:Heirloom Plant Sale
DESCRIPTION:Plant sale 2025 Flier CLICK HERE! \n  \nIn addition to the normal activities we have at our Annual Plant Sales\, we will also have another presentation in our series of Garden Talks.  This presentation will begin at 10 am the day of the event.
URL:https://www.mercyspringranch.org/event/heirloom-plant-sale-4/
LOCATION:Mercy Spring Ranch\, 21819 McBride Rd.\, Escalon\, CA\, 95320\, United States
ATTACH;FMTTYPE=image/jpeg:https://www.mercyspringranch.org/wp-content/uploads/2022/02/IMG_1590.jpg
END:VEVENT
BEGIN:VEVENT
DTSTART;TZID=America/Los_Angeles:20250315T090000
DTEND;TZID=America/Los_Angeles:20250315T130000
DTSTAMP:20260423T164512
CREATED:20250202T012831Z
LAST-MODIFIED:20250202T012831Z
UID:2376-1742029200-1742043600@www.mercyspringranch.org
SUMMARY:Heirloom Plant Sale
DESCRIPTION:Plant sale 2025 Flier CLICK HERE! \n  \nIn addition to the normal activities we have at our Annual Plant Sales\, we will also have another presentation in our series of Garden Talks.  This presentation will begin at 10 am the day of the event.
URL:https://www.mercyspringranch.org/event/heirloom-plant-sale-3/
LOCATION:Mercy Spring Ranch\, 21819 McBride Rd.\, Escalon\, CA\, 95320\, United States
ATTACH;FMTTYPE=image/jpeg:https://www.mercyspringranch.org/wp-content/uploads/2022/02/IMG_1590.jpg
END:VEVENT
BEGIN:VEVENT
DTSTART;TZID=America/Los_Angeles:20250301T080000
DTEND;TZID=America/Los_Angeles:20250301T170000
DTSTAMP:20260423T164512
CREATED:20250202T014628Z
LAST-MODIFIED:20250202T014628Z
UID:2388-1740816000-1740848400@www.mercyspringranch.org
SUMMARY:Call in Registration Day for April/May Session Block
DESCRIPTION:Registration for sessions takes place on the first Saturday of the month prior to the month new sessions begin. For instance\, if you are trying to sign up for the April/May block of sessions the registration call-in for that block of sessions will be the first Saturday in March\, beginning at 8am. For the June/July session block\, the first Saturday in May at the same time. For the August/September session block\, the first Saturday in July at the same time. The number to call is (209) 691-6054. Sessions are offered on a first come\, first-served basis. (All calls are time stamped and any calls made before 8am will be moved to the bottom of the list to make it fair.) Once you call in and leave a message\, it takes a few weeks to work our way down the list making call-backs and getting children scheduled.  For more information click here.
URL:https://www.mercyspringranch.org/event/call-in-registration-day-for-april-may-session-block-2/
LOCATION:Call In
CATEGORIES:Session Call In Day
ATTACH;FMTTYPE=image/jpeg:https://www.mercyspringranch.org/wp-content/uploads/2021/06/untitled-2-1.jpg
END:VEVENT
BEGIN:VEVENT
DTSTART;TZID=America/Los_Angeles:20241019T150000
DTEND;TZID=America/Los_Angeles:20241019T190000
DTSTAMP:20260423T164512
CREATED:20220202T224103Z
LAST-MODIFIED:20240131T235805Z
UID:873-1729350000-1729364400@www.mercyspringranch.org
SUMMARY:MSR Ranch Family Dinner 2024
DESCRIPTION:This is the final event of the session season each year.  All of our ranch families are invited out for a BBQ potluck\, pony rides\, games\, and more!
URL:https://www.mercyspringranch.org/event/msr-ranch-family-dinner-2024/
LOCATION:Mercy Spring Ranch\, 21819 McBride Rd.\, Escalon\, CA\, 95320\, United States
ATTACH;FMTTYPE=image/jpeg:https://www.mercyspringranch.org/wp-content/uploads/2024/01/IMG_1801.jpg
END:VEVENT
BEGIN:VEVENT
DTSTART;TZID=America/Los_Angeles:20240817T100000
DTEND;TZID=America/Los_Angeles:20240817T140000
DTSTAMP:20260423T164512
CREATED:20231121T020144Z
LAST-MODIFIED:20240201T033837Z
UID:2079-1723888800-1723903200@www.mercyspringranch.org
SUMMARY:Annual Heirloom Tomato Tasting 2024
DESCRIPTION:Tomato tasting flier 2024 \n  \nIn addition to the normal activities we have at our Annual Tomato Tasting event\, we will also have another presentation in our series of Tomato Talks.  This presentation will begin at 11 am the day of the event.
URL:https://www.mercyspringranch.org/event/annual-heirloom-tomato-tasting-2024/
LOCATION:Mercy Spring Ranch\, 21819 McBride Rd.\, Escalon\, CA\, 95320\, United States
ATTACH;FMTTYPE=image/jpeg:https://www.mercyspringranch.org/wp-content/uploads/2016/01/IMG_0566.jpg
END:VEVENT
BEGIN:VEVENT
DTSTART;TZID=America/Los_Angeles:20240706T080000
DTEND;TZID=America/Los_Angeles:20240706T170000
DTSTAMP:20260423T164512
CREATED:20220228T170005Z
LAST-MODIFIED:20240301T165622Z
UID:1323-1720252800-1720285200@www.mercyspringranch.org
SUMMARY:Call in Registration Day for August/September Session Block
DESCRIPTION:Registration for sessions takes place on the first Saturday of the month prior to the month new sessions begin. For instance\, if you are trying to sign up for the April/May block of sessions the registration call-in for that block of sessions will be the first Saturday in March\, beginning at 8am. For the June/July session block\, the first Saturday in May at the same time. For the August/September session block\, the first Saturday in July at the same time. The number to call is (209) 691-6054. Sessions are offered on a first come\, first-served basis. (All calls are time stamped and any calls made before 8am will be moved to the bottom of the list to make it fair.) Once you call in and leave a message\, it takes a few weeks to work our way down the list making call-backs and getting children scheduled.  For more information click here.
URL:https://www.mercyspringranch.org/event/call-in-registration-day-for-august-september-session-block/
LOCATION:Call In
CATEGORIES:Session Call In Day
ATTACH;FMTTYPE=image/jpeg:https://www.mercyspringranch.org/wp-content/uploads/2021/06/untitled-2-1.jpg
END:VEVENT
BEGIN:VEVENT
DTSTART;TZID=America/Los_Angeles:20240504T080000
DTEND;TZID=America/Los_Angeles:20240504T170000
DTSTAMP:20260423T164512
CREATED:20220228T164626Z
LAST-MODIFIED:20240301T165809Z
UID:1315-1714809600-1714842000@www.mercyspringranch.org
SUMMARY:Call in Registration Day for June/July Session Block
DESCRIPTION:Registration for sessions takes place on the first Saturday of the month prior to the month new sessions begin. For instance\, if you are trying to sign up for the April/May block of sessions the registration call-in for that block of sessions will be the first Saturday in March\, beginning at 8am. For the June/July session block\, the first Saturday in May at the same time. For the August/September session block\, the first Saturday in July at the same time. The number to call is (209) 691-6054. Sessions are offered on a first come\, first-served basis. (All calls are time stamped and any calls made before 8am will be moved to the bottom of the list to make it fair.) Once you call in and leave a message\, it takes a few weeks to work our way down the list making call-backs and getting children scheduled.  For more information click here.
URL:https://www.mercyspringranch.org/event/call-in-day-for-april-may-session-block/
LOCATION:Call In
CATEGORIES:Session Call In Day
ATTACH;FMTTYPE=image/jpeg:https://www.mercyspringranch.org/wp-content/uploads/2021/06/untitled-2-1.jpg
END:VEVENT
BEGIN:VEVENT
DTSTART;TZID=America/Los_Angeles:20240413T090000
DTEND;TZID=America/Los_Angeles:20240413T130000
DTSTAMP:20260423T164512
CREATED:20220208T201602Z
LAST-MODIFIED:20240411T002938Z
UID:1110-1712998800-1713013200@www.mercyspringranch.org
SUMMARY:Heirloom Plant Sale
DESCRIPTION:Click HERE for our flier! \n  \nIn addition to the normal activities we have at our Annual Plant Sales\, we will also have another presentation in our series of Tomato Talks.  This presentation will begin at 10 am the day of the event.
URL:https://www.mercyspringranch.org/event/heirloom-plant-sale-2/
LOCATION:Mercy Spring Ranch\, 21819 McBride Rd.\, Escalon\, CA\, 95320\, United States
ATTACH;FMTTYPE=image/jpeg:https://www.mercyspringranch.org/wp-content/uploads/2022/02/IMG_1590.jpg
END:VEVENT
BEGIN:VEVENT
DTSTART;TZID=America/Los_Angeles:20240316T090000
DTEND;TZID=America/Los_Angeles:20240316T140000
DTSTAMP:20260423T164512
CREATED:20220208T201244Z
LAST-MODIFIED:20240201T021854Z
UID:1108-1710579600-1710597600@www.mercyspringranch.org
SUMMARY:Heirloom Plant Sale
DESCRIPTION:Plant sale 2024 Flier CLICK HERE! \n  \nIn addition to the normal activities we have at our Annual Plant Sales\, we will also have another presentation in our series of Tomato Talks.  This presentation will begin at 10 am the day of the event.
URL:https://www.mercyspringranch.org/event/heirloom-plant-sale/
LOCATION:Mercy Spring Ranch\, 21819 McBride Rd.\, Escalon\, CA\, 95320\, United States
ATTACH;FMTTYPE=image/jpeg:https://www.mercyspringranch.org/wp-content/uploads/2022/02/IMG_1590.jpg
END:VEVENT
BEGIN:VEVENT
DTSTART;TZID=America/Los_Angeles:20240302T080000
DTEND;TZID=America/Los_Angeles:20240302T170000
DTSTAMP:20260423T164512
CREATED:20220228T165913Z
LAST-MODIFIED:20240301T165829Z
UID:1321-1709366400-1709398800@www.mercyspringranch.org
SUMMARY:Call in Registration Day for April/May Session Block
DESCRIPTION:Registration for sessions takes place on the first Saturday of the month prior to the month new sessions begin. For instance\, if you are trying to sign up for the April/May block of sessions the registration call-in for that block of sessions will be the first Saturday in March\, beginning at 8am. For the June/July session block\, the first Saturday in May at the same time. For the August/September session block\, the first Saturday in July at the same time. The number to call is (209) 691-6054. Sessions are offered on a first come\, first-served basis. (All calls are time stamped and any calls made before 8am will be moved to the bottom of the list to make it fair.) Once you call in and leave a message\, it takes a few weeks to work our way down the list making call-backs and getting children scheduled.  For more information click here.
URL:https://www.mercyspringranch.org/event/call-in-registration-day-for-april-may-session-block/
LOCATION:Call In
CATEGORIES:Session Call In Day
ATTACH;FMTTYPE=image/jpeg:https://www.mercyspringranch.org/wp-content/uploads/2021/06/untitled-2-1.jpg
END:VEVENT
BEGIN:VEVENT
DTSTART;TZID=America/Los_Angeles:20240224T100000
DTEND;TZID=America/Los_Angeles:20240224T130000
DTSTAMP:20260423T164512
CREATED:20220202T224018Z
LAST-MODIFIED:20240224T170538Z
UID:871-1708768800-1708779600@www.mercyspringranch.org
SUMMARY:Horse Handler Training
DESCRIPTION:For those 18 and over who would like to volunteer in any capacity that puts you in proximity to our horses\, we require all horse volunteers to go through our horse handler training. Training is offered in our off-season\, scheduled from January through March. Horse handlers learn the basics of haltering\, grooming\, leading\, horse behavior and safety with our equines. Those with current horse experience can often get our guidelines down quickly\, but it’s imperative for safety and the health of our horses that all horse related volunteers go through this training.\n\nDo you have an interest and desire to volunteer with the horses at the ranch? Even if you have minimal experience\, you are welcome to come and learn what it takes to be a horse handler at MSR!\n\nUPDATE: The training is full but contact us if you would like to audit!
URL:https://www.mercyspringranch.org/event/horse-handler-training-2/
LOCATION:Mercy Spring Ranch\, 21819 McBride Rd.\, Escalon\, CA\, 95320\, United States
CATEGORIES:Horse Handler Training
ATTACH;FMTTYPE=image/jpeg:https://www.mercyspringranch.org/wp-content/uploads/2024/01/Horse-Handler-2022.jpg
END:VEVENT
BEGIN:VEVENT
DTSTART;TZID=America/Los_Angeles:20240210T100000
DTEND;TZID=America/Los_Angeles:20240210T130000
DTSTAMP:20260423T164512
CREATED:20220202T223939Z
LAST-MODIFIED:20240224T170559Z
UID:869-1707559200-1707570000@www.mercyspringranch.org
SUMMARY:Horse Handler Training
DESCRIPTION:For those 18 and over who would like to volunteer in any capacity that puts you in proximity to our horses\, we require all horse volunteers to go through our horse handler training. Training is offered in our off-season\, scheduled from January through March. Horse handlers learn the basics of haltering\, grooming\, leading\, horse behavior and safety with our equines. Those with current horse experience can often get our guidelines down quickly\, but it’s imperative for safety and the health of our horses that all horse related volunteers go through this training.\n\nDo you have an interest and desire to volunteer with the horses at the ranch? Even if you have minimal experience\, you are welcome to come and learn what it takes to be a horse handler at MSR!\n\nUPDATE:  The training is full\, but if you’re interested in auditing contact us!
URL:https://www.mercyspringranch.org/event/horse-handler-training/
LOCATION:Mercy Spring Ranch\, 21819 McBride Rd.\, Escalon\, CA\, 95320\, United States
CATEGORIES:Horse Handler Training
ATTACH;FMTTYPE=image/jpeg:https://www.mercyspringranch.org/wp-content/uploads/2024/01/Horse-Handler-2022.jpg
END:VEVENT
BEGIN:VEVENT
DTSTART;VALUE=DATE:20231128
DTEND;VALUE=DATE:20231129
DTSTAMP:20260423T164512
CREATED:20231121T025753Z
LAST-MODIFIED:20231121T025913Z
UID:2082-1701129600-1701215999@www.mercyspringranch.org
SUMMARY:Giving Tuesday 2023
DESCRIPTION:If you would like to support the amazing work that God is doing here at the ranch\, now is your opportunity!  Whether it’s donating your time as a volunteer\, coming out to participate in a ranch work day\, sponsoring one of our amazing horses\, or giving financially to support our mission\, we so appreciate you!  Without your generous support of this ministry\, we couldn’t do what we do!  To donate financially click here.  To sponsor a horse click here.  Or to find out how to volunteer\, click here.
URL:https://www.mercyspringranch.org/event/giving-tuesday-2023/
LOCATION:Mercy Spring Ranch\, 21819 McBride Rd.\, Escalon\, CA\, 95320\, United States
ATTACH;FMTTYPE=image/png:https://www.mercyspringranch.org/wp-content/uploads/2023/11/Quote-template-2023-Facebook.png
END:VEVENT
BEGIN:VEVENT
DTSTART;TZID=America/Los_Angeles:20230819T100000
DTEND;TZID=America/Los_Angeles:20230819T140000
DTSTAMP:20260423T164512
CREATED:20160511T043356Z
LAST-MODIFIED:20230201T170529Z
UID:340-1692439200-1692453600@www.mercyspringranch.org
SUMMARY:Annual Heirloom Tomato Tasting 2023
DESCRIPTION:Tomato tasting flier 2023
URL:https://www.mercyspringranch.org/event/annual-heirloom-tomato-tasting/
LOCATION:Mercy Spring Ranch\, 21819 McBride Rd.\, Escalon\, CA\, 95320\, United States
ATTACH;FMTTYPE=image/jpeg:https://www.mercyspringranch.org/wp-content/uploads/2016/01/IMG_0566.jpg
END:VEVENT
BEGIN:VEVENT
DTSTART;VALUE=DATE:20221129
DTEND;VALUE=DATE:20221130
DTSTAMP:20260423T164512
CREATED:20221117T022532Z
LAST-MODIFIED:20221117T024052Z
UID:1662-1669680000-1669766399@www.mercyspringranch.org
SUMMARY:Giving Tuesday 2022
DESCRIPTION:If you would like to support the amazing work that God is doing here at the ranch\, now is your opportunity!  Whether it’s donating your time as a volunteer\, coming out to participate in a ranch work day\, sponsoring one of our amazing horses\, or giving financially to support our mission\, we so appreciate you!  Without your generous support of this ministry\, we couldn’t do what we do!  To donate financially click here.  To sponsor a horse click here.  Or to find out how to volunteer\, click here.
URL:https://www.mercyspringranch.org/event/giving-tuesday-2022/
LOCATION:Mercy Spring Ranch\, 21819 McBride Rd.\, Escalon\, CA\, 95320\, United States
ATTACH;FMTTYPE=image/png:https://www.mercyspringranch.org/wp-content/uploads/2022/11/Quote-template-Facebook.png
END:VEVENT
BEGIN:VEVENT
DTSTART;VALUE=DATE:20221007
DTEND;VALUE=DATE:20221009
DTSTAMP:20260423T164512
CREATED:20220617T062735Z
LAST-MODIFIED:20220617T063652Z
UID:1552-1665100800-1665273599@www.mercyspringranch.org
SUMMARY:Ronnie Moyer Horsemanship Clinic
DESCRIPTION:FinalDraftMoyersClinicPDF
URL:https://www.mercyspringranch.org/event/ronnie-moyer-horsemanship-clinic/
LOCATION:Mercy Spring Ranch\, 21819 McBride Rd.\, Escalon\, CA\, 95320\, United States
ATTACH;FMTTYPE=image/jpeg:https://www.mercyspringranch.org/wp-content/uploads/2022/06/Canon-Canon-EOS-7D-Mark-II-5472x3648-304027720.jpg
END:VEVENT
END:VCALENDAR